BEGIN:VCALENDAR
VERSION:2.0
PRODID:-//AfEBB e. V. - ECPv6.15.20//NONSGML v1.0//EN
CALSCALE:GREGORIAN
METHOD:PUBLISH
X-ORIGINAL-URL:https://afebb.de
X-WR-CALDESC:Veranstaltungen für AfEBB e. V.
REFRESH-INTERVAL;VALUE=DURATION:PT1H
X-Robots-Tag:noindex
X-PUBLISHED-TTL:PT1H
BEGIN:VTIMEZONE
TZID:Europe/Berlin
BEGIN:DAYLIGHT
TZOFFSETFROM:+0100
TZOFFSETTO:+0200
TZNAME:CEST
DTSTART:20250330T010000
END:DAYLIGHT
BEGIN:STANDARD
TZOFFSETFROM:+0200
TZOFFSETTO:+0100
TZNAME:CET
DTSTART:20251026T010000
END:STANDARD
BEGIN:DAYLIGHT
TZOFFSETFROM:+0100
TZOFFSETTO:+0200
TZNAME:CEST
DTSTART:20260329T010000
END:DAYLIGHT
BEGIN:STANDARD
TZOFFSETFROM:+0200
TZOFFSETTO:+0100
TZNAME:CET
DTSTART:20261025T010000
END:STANDARD
BEGIN:DAYLIGHT
TZOFFSETFROM:+0100
TZOFFSETTO:+0200
TZNAME:CEST
DTSTART:20270328T010000
END:DAYLIGHT
BEGIN:STANDARD
TZOFFSETFROM:+0200
TZOFFSETTO:+0100
TZNAME:CET
DTSTART:20271031T010000
END:STANDARD
END:VTIMEZONE
BEGIN:VEVENT
DTSTART;TZID=Europe/Berlin:20260228T160000
DTEND;TZID=Europe/Berlin:20260228T180000
DTSTAMP:20260423T181321
CREATED:20260223T205238Z
LAST-MODIFIED:20260223T205238Z
UID:1653-1772294400-1772301600@afebb.de
SUMMARY:Sambische und südafrikanische Nacht der Kultur mit George Chibanga
DESCRIPTION:Begleiten Sie uns zu einer lebendigen sambischen und südafrikanischen Nacht\, bei der wir die reichen Ursprünge\, Kulturen und Sprachen des südlichen Afrikas entdecken und die kraftvollen Tänze\, Zeremonien und Traditionen feiern\, die diese Gemeinschaften einzigartig machen und Menschen in Wertschätzung\, Einheit und Stolz zusammenbringen. \nFreier Eintritt – Spenden willkommen \nUm eine Anmeldung wird per Email an post@afebb.de oder per Anruf unter 0176 43 6913 30 gebeten.
URL:https://afebb.de/event/sambische-und-suedafrikanische-nacht-der-kultur-mit-george-chibanga/
LOCATION:Stadtteilzentrum Pankow\, Schönholzer Str. 10\, Berlin\, 13187
CATEGORIES:AfEBB
ATTACH;FMTTYPE=image/jpeg:https://afebb.de/wp-content/uploads/2026/02/Einladung-zur-sambischen-und-suedafrikanischen-Nacht-der-Kultur-am-28.02.2026-im-Stadtteilzentrum-Pankow_AfEBB-e.V.jpg
ORGANIZER;CN="AfEBB e. V.":MAILTO:post@afebb.de
END:VEVENT
END:VCALENDAR