BEGIN:VCALENDAR
VERSION:2.0
PRODID:-//AfEBB e. V. - ECPv6.15.20//NONSGML v1.0//EN
CALSCALE:GREGORIAN
METHOD:PUBLISH
X-WR-CALNAME:AfEBB e. V.
X-ORIGINAL-URL:https://afebb.de
X-WR-CALDESC:Veranstaltungen für AfEBB e. V.
REFRESH-INTERVAL;VALUE=DURATION:PT1H
X-Robots-Tag:noindex
X-PUBLISHED-TTL:PT1H
BEGIN:VTIMEZONE
TZID:Europe/Berlin
BEGIN:DAYLIGHT
TZOFFSETFROM:+0100
TZOFFSETTO:+0200
TZNAME:CEST
DTSTART:20250330T010000
END:DAYLIGHT
BEGIN:STANDARD
TZOFFSETFROM:+0200
TZOFFSETTO:+0100
TZNAME:CET
DTSTART:20251026T010000
END:STANDARD
BEGIN:DAYLIGHT
TZOFFSETFROM:+0100
TZOFFSETTO:+0200
TZNAME:CEST
DTSTART:20260329T010000
END:DAYLIGHT
BEGIN:STANDARD
TZOFFSETFROM:+0200
TZOFFSETTO:+0100
TZNAME:CET
DTSTART:20261025T010000
END:STANDARD
BEGIN:DAYLIGHT
TZOFFSETFROM:+0100
TZOFFSETTO:+0200
TZNAME:CEST
DTSTART:20270328T010000
END:DAYLIGHT
BEGIN:STANDARD
TZOFFSETFROM:+0200
TZOFFSETTO:+0100
TZNAME:CET
DTSTART:20271031T010000
END:STANDARD
END:VTIMEZONE
BEGIN:VEVENT
DTSTART;TZID=Europe/Berlin:20260411T140000
DTEND;TZID=Europe/Berlin:20260411T170000
DTSTAMP:20260423T163303
CREATED:20260410T065830Z
LAST-MODIFIED:20260410T070135Z
UID:1768-1775916000-1775926800@afebb.de
SUMMARY:OSTERN 2026
DESCRIPTION:Kommen Sie zu einer fröhlichen Osterfeier mit gutem Essen\, toller Musik und kreativen Aktivitäten für alle Altersgruppen!\nNehmen Sie an einem kreativen Oster-Workshop rund um Kekse und Kunst teil und gestalten Sie Ihre eigenen Leckereien. \nFreier Eintritt – Spenden willkommen \nUm eine Anmeldung wird per Email an post@afebb.de oder per Anruf unter 0176 43 6913 30 gebeten.
URL:https://afebb.de/event/ostern-2026/
LOCATION:Stadtteilzentrum Pankow\, Schönholzer Str. 10\, Berlin\, 13187
CATEGORIES:AfEBB
ATTACH;FMTTYPE=image/png:https://afebb.de/wp-content/uploads/2026/04/Einladung-zu-Ostern-von-AfEBB-e.V.-am-11.04.2026-im-Stadtteilzentrum-Pankow.png
ORGANIZER;CN="AfEBB e. V.":MAILTO:post@afebb.de
END:VEVENT
END:VCALENDAR