BEGIN:VCALENDAR
VERSION:2.0
PRODID:-//AfEBB e. V. - ECPv6.15.20//NONSGML v1.0//EN
CALSCALE:GREGORIAN
METHOD:PUBLISH
X-ORIGINAL-URL:https://afebb.de
X-WR-CALDESC:Veranstaltungen für AfEBB e. V.
REFRESH-INTERVAL;VALUE=DURATION:PT1H
X-Robots-Tag:noindex
X-PUBLISHED-TTL:PT1H
BEGIN:VTIMEZONE
TZID:Europe/Berlin
BEGIN:DAYLIGHT
TZOFFSETFROM:+0100
TZOFFSETTO:+0200
TZNAME:CEST
DTSTART:20250330T010000
END:DAYLIGHT
BEGIN:STANDARD
TZOFFSETFROM:+0200
TZOFFSETTO:+0100
TZNAME:CET
DTSTART:20251026T010000
END:STANDARD
BEGIN:DAYLIGHT
TZOFFSETFROM:+0100
TZOFFSETTO:+0200
TZNAME:CEST
DTSTART:20260329T010000
END:DAYLIGHT
BEGIN:STANDARD
TZOFFSETFROM:+0200
TZOFFSETTO:+0100
TZNAME:CET
DTSTART:20261025T010000
END:STANDARD
BEGIN:DAYLIGHT
TZOFFSETFROM:+0100
TZOFFSETTO:+0200
TZNAME:CEST
DTSTART:20270328T010000
END:DAYLIGHT
BEGIN:STANDARD
TZOFFSETFROM:+0200
TZOFFSETTO:+0100
TZNAME:CET
DTSTART:20271031T010000
END:STANDARD
END:VTIMEZONE
BEGIN:VEVENT
DTSTART;TZID=Europe/Berlin:20260425T140000
DTEND;TZID=Europe/Berlin:20260425T180000
DTSTAMP:20260423T135108
CREATED:20260422T103954Z
LAST-MODIFIED:20260422T104101Z
UID:1772-1777125600-1777140000@afebb.de
SUMMARY:Familien Brunch: Afrikanische Ernährung und ihre Vorteile
DESCRIPTION:Entdecken Sie die Vielfalt der traditionellen afrikanischen Ernährung und ihre gesundheitlichen Vorteile.\nDiese Veranstaltung lädt dazu ein\, natürliche und ausgewogene Lebensmittel kennenzulernen.\n• Präsentation über afrikanische Grundnahrungsmittel\, vitaminreiche Gemüsesorten und nährstoffreiche sowie medizinische Pflanzen wie Moringa\n• Diskussion über gesunde Fette und natürliche Öle\nIndividuelle 30 minütige Beratung zu unseren weiteren Angeboten. \nFreier Eintritt – Spenden willkommen \nUm eine Anmeldung wird per Email an post@afebb.de oder per Anruf unter 0176 43 6913 30 gebeten.
URL:https://afebb.de/event/familien-brunch-afrikanische-ernaehrung-und-ihre-vorteile/
LOCATION:Stadtteilzentrum Pankow\, Schönholzer Str. 10\, Berlin\, 13187
CATEGORIES:AfEBB
ATTACH;FMTTYPE=image/png:https://afebb.de/wp-content/uploads/2026/04/Einladung-zur-Veranstaltung-von-A-fEBB-e.V.-Afrikanische-Ernaehrung-und-ihre-Vorteile-am-25.04.20-26-im-Stadtteilzentrum-Pankow.png
ORGANIZER;CN="AfEBB e. V.":MAILTO:post@afebb.de
END:VEVENT
END:VCALENDAR