BEGIN:VCALENDAR
VERSION:2.0
PRODID:-//AfEBB e. V. - ECPv6.15.20//NONSGML v1.0//EN
CALSCALE:GREGORIAN
METHOD:PUBLISH
X-ORIGINAL-URL:https://afebb.de
X-WR-CALDESC:Veranstaltungen für AfEBB e. V.
REFRESH-INTERVAL;VALUE=DURATION:PT1H
X-Robots-Tag:noindex
X-PUBLISHED-TTL:PT1H
BEGIN:VTIMEZONE
TZID:Europe/Berlin
BEGIN:DAYLIGHT
TZOFFSETFROM:+0100
TZOFFSETTO:+0200
TZNAME:CEST
DTSTART:20250330T010000
END:DAYLIGHT
BEGIN:STANDARD
TZOFFSETFROM:+0200
TZOFFSETTO:+0100
TZNAME:CET
DTSTART:20251026T010000
END:STANDARD
BEGIN:DAYLIGHT
TZOFFSETFROM:+0100
TZOFFSETTO:+0200
TZNAME:CEST
DTSTART:20260329T010000
END:DAYLIGHT
BEGIN:STANDARD
TZOFFSETFROM:+0200
TZOFFSETTO:+0100
TZNAME:CET
DTSTART:20261025T010000
END:STANDARD
BEGIN:DAYLIGHT
TZOFFSETFROM:+0100
TZOFFSETTO:+0200
TZNAME:CEST
DTSTART:20270328T010000
END:DAYLIGHT
BEGIN:STANDARD
TZOFFSETFROM:+0200
TZOFFSETTO:+0100
TZNAME:CET
DTSTART:20271031T010000
END:STANDARD
END:VTIMEZONE
BEGIN:VEVENT
DTSTART;TZID=Europe/Berlin:20260214T150000
DTEND;TZID=Europe/Berlin:20260214T180000
DTSTAMP:20260423T180640
CREATED:20260205T124445Z
LAST-MODIFIED:20260205T124445Z
UID:1646-1771081200-1771092000@afebb.de
SUMMARY:Ein süßer Tag der Liebe mit Fabienne Sanou
DESCRIPTION:Tauchen Sie ein in einen fröhlichen und kreativen Valentinstags-Workshop\, bei dem jeder seine eigene personalisierte Schokolade gestalten kann – schmelzen\, formen und mit Lieblingszutaten dekorieren.\nMit Live-Musik und offenem Karaoke entsteht eine lebendige\, gesellige Atmosphäre. Die Veranstaltung ist für alle offen: Kinder\, Paare\, Freunde\, Singles und Familien. Es ist ein herzliches\, inklusives Fest der Liebe\, Kreativität und Verbundenheit! Jeder geht mit einer süßen Kreation nach Hause\, so einzigartig wie er selbst. \nFreier Eintritt – Spenden willkommen \nUm eine Anmeldung wird per Email an post@afebb.de oder per Anruf unter 0176 43 6913 30 gebeten.
URL:https://afebb.de/event/ein-suesser-tag-der-liebe-mit-fabienne-sanou/
LOCATION:Stadtteilzentrum Pankow\, Schönholzer Str. 10\, Berlin\, 13187
CATEGORIES:AfEBB
ATTACH;FMTTYPE=image/jpeg:https://afebb.de/wp-content/uploads/2026/02/Einladung-zum-kuenstlerischen-Workshop-von-AfEBB-e-.V.-am-14.02.2026-im-Stadtteilzentrum-Pankow-.jpg
ORGANIZER;CN="AfEBB e. V.":MAILTO:post@afebb.de
END:VEVENT
BEGIN:VEVENT
DTSTART;TZID=Europe/Berlin:20260221T160000
DTEND;TZID=Europe/Berlin:20260221T180000
DTSTAMP:20260423T180640
CREATED:20260220T103712Z
LAST-MODIFIED:20260220T103712Z
UID:1650-1771689600-1771696800@afebb.de
SUMMARY:Albinismus\, Identität und Zugehörigkeit (Film) und psychosoziale Unterstützung
DESCRIPTION:Nehmen Sie an einer Albinismus-Aufklärungsveranstaltung teil\, um zu erfahren\, was Albinismus ist\, was den Mangel an Melanin verursacht\, und durch einen realitätsnahen Film ein tieferes Verständnis für das Leben\, die Herausforderungen und die gesellschaftlichen Vorstellungen rund um Menschen mit Albinismus zu gewinnen. Außerdem lernen Sie\, wie Sie psychosoziale Unterstützung leisten und sich mit Mitgefühl und Inklusion gegen Stigmatisierung einsetzen können. \nFreier Eintritt – Spenden willkommen \nUm eine Anmeldung wird per Email an post@afebb.de oder per Anruf unter 0176 43 6913 30 gebeten.
URL:https://afebb.de/event/albinismus-identitaet-und-zugehoerigkeit-film-und-psychosoziale-unterstuetzung/
LOCATION:Stadtteilzentrum Pankow\, Schönholzer Str. 10\, Berlin\, 13187
CATEGORIES:AfEBB
ATTACH;FMTTYPE=image/jpeg:https://afebb.de/wp-content/uploads/2026/02/Einladung-Filmvorfuehrung-AfEBB-ueber-Albinismus.jpg
ORGANIZER;CN="AfEBB e. V.":MAILTO:post@afebb.de
END:VEVENT
BEGIN:VEVENT
DTSTART;TZID=Europe/Berlin:20260228T160000
DTEND;TZID=Europe/Berlin:20260228T180000
DTSTAMP:20260423T180640
CREATED:20260223T205238Z
LAST-MODIFIED:20260223T205238Z
UID:1653-1772294400-1772301600@afebb.de
SUMMARY:Sambische und südafrikanische Nacht der Kultur mit George Chibanga
DESCRIPTION:Begleiten Sie uns zu einer lebendigen sambischen und südafrikanischen Nacht\, bei der wir die reichen Ursprünge\, Kulturen und Sprachen des südlichen Afrikas entdecken und die kraftvollen Tänze\, Zeremonien und Traditionen feiern\, die diese Gemeinschaften einzigartig machen und Menschen in Wertschätzung\, Einheit und Stolz zusammenbringen. \nFreier Eintritt – Spenden willkommen \nUm eine Anmeldung wird per Email an post@afebb.de oder per Anruf unter 0176 43 6913 30 gebeten.
URL:https://afebb.de/event/sambische-und-suedafrikanische-nacht-der-kultur-mit-george-chibanga/
LOCATION:Stadtteilzentrum Pankow\, Schönholzer Str. 10\, Berlin\, 13187
CATEGORIES:AfEBB
ATTACH;FMTTYPE=image/jpeg:https://afebb.de/wp-content/uploads/2026/02/Einladung-zur-sambischen-und-suedafrikanischen-Nacht-der-Kultur-am-28.02.2026-im-Stadtteilzentrum-Pankow_AfEBB-e.V.jpg
ORGANIZER;CN="AfEBB e. V.":MAILTO:post@afebb.de
END:VEVENT
END:VCALENDAR