BEGIN:VCALENDAR
VERSION:2.0
PRODID:-//AfEBB e. V. - ECPv6.15.20//NONSGML v1.0//EN
CALSCALE:GREGORIAN
METHOD:PUBLISH
X-ORIGINAL-URL:https://afebb.de
X-WR-CALDESC:Veranstaltungen für AfEBB e. V.
REFRESH-INTERVAL;VALUE=DURATION:PT1H
X-Robots-Tag:noindex
X-PUBLISHED-TTL:PT1H
BEGIN:VTIMEZONE
TZID:Europe/Berlin
BEGIN:DAYLIGHT
TZOFFSETFROM:+0100
TZOFFSETTO:+0200
TZNAME:CEST
DTSTART:20250330T010000
END:DAYLIGHT
BEGIN:STANDARD
TZOFFSETFROM:+0200
TZOFFSETTO:+0100
TZNAME:CET
DTSTART:20251026T010000
END:STANDARD
BEGIN:DAYLIGHT
TZOFFSETFROM:+0100
TZOFFSETTO:+0200
TZNAME:CEST
DTSTART:20260329T010000
END:DAYLIGHT
BEGIN:STANDARD
TZOFFSETFROM:+0200
TZOFFSETTO:+0100
TZNAME:CET
DTSTART:20261025T010000
END:STANDARD
BEGIN:DAYLIGHT
TZOFFSETFROM:+0100
TZOFFSETTO:+0200
TZNAME:CEST
DTSTART:20270328T010000
END:DAYLIGHT
BEGIN:STANDARD
TZOFFSETFROM:+0200
TZOFFSETTO:+0100
TZNAME:CET
DTSTART:20271031T010000
END:STANDARD
END:VTIMEZONE
BEGIN:VEVENT
DTSTART;TZID=Europe/Berlin:20260308T140000
DTEND;TZID=Europe/Berlin:20260308T180000
DTSTAMP:20260423T163829
CREATED:20260303T093330Z
LAST-MODIFIED:20260303T093330Z
UID:1656-1772978400-1772992800@afebb.de
SUMMARY:Afrikanische Frauen im Fokus: Gemeinsam verwandeln wir unsere Geschichten in ein Kulturerbe
DESCRIPTION:Mit Nelly Ngono Awono (AfEBB Vizepräsidentin)\nund:\nClaudia Fotso (Influencerin und Content Creator\, Brand Owner: Chloe Aicha) \nFabienne Sanou (CO-Gründerin Dripideco) \nAnnie Carine Nkoa (Pharma /Prozessingenieurin\, Gründerin\, The Cooky’s Store & Glam Decor) \nStephanie Gnali Penk (Qualitätskontrollanalystin bei Biontech) \nDiskussion und Erkenntnisse\nAnlässlich des Internationalen Frauentages laden wir Sie zu einem besonderen Tag voller Motivation\, Inspiration und Lernen ein – gewidmet der Würdigung des Know-hows und der Exzellenz afrikanischer Frauen.\nEngagierte Frauen werden ihre Lebenswege\, Erfahrungen und Erfolgsstrategien teilen\, um andere Frauen zu inspirieren\, zu stärken und zu fördern. \nFreier Eintritt – Spenden willkommen \nUm eine Anmeldung wird per Email an post@afebb.de oder per Anruf unter 0176 43 6913 30 gebeten.
URL:https://afebb.de/event/afrikanische-frauen-im-fokus-gemeinsam-verwandeln-wir-unsere-geschichten-in-ein-kulturerbe/
LOCATION:Stadtteilzentrum Pankow\, Schönholzer Str. 10\, Berlin\, 13187
CATEGORIES:AfEBB
ATTACH;FMTTYPE=image/jpeg:https://afebb.de/wp-content/uploads/2026/03/afebb-afrikanische-frauen-vortrag-und-diskussion.jpg
END:VEVENT
BEGIN:VEVENT
DTSTART;TZID=Europe/Berlin:20260321T150000
DTEND;TZID=Europe/Berlin:20260321T180000
DTSTAMP:20260423T163829
CREATED:20260317T150255Z
LAST-MODIFIED:20260317T150310Z
UID:1737-1774105200-1774116000@afebb.de
SUMMARY:Frühlingsfest in Pankow
DESCRIPTION:Kommt vorbei und trefft uns an unserem Stand beim Frühlingsfest in Pankow.\nWir sind auf dem Gelände der ev. Kirchengemeinde und freuen uns auf euer Kommen.
URL:https://afebb.de/event/fruehlingsfest-in-pankow/
LOCATION:EVANGELISCHE KIRCHENGEMEINDE BERLIN BUCHHOLZ\, Hauptstr. 58\, Berlin\, 13127
ATTACH;FMTTYPE=image/jpeg:https://afebb.de/wp-content/uploads/2026/03/AfEBB-unterstuezt-und-laedt-ein-fruehlingsfest-pankow.jpg
END:VEVENT
BEGIN:VEVENT
DTSTART;TZID=Europe/Berlin:20260329T170000
DTEND;TZID=Europe/Berlin:20260329T190000
DTSTAMP:20260423T163829
CREATED:20260325T163519Z
LAST-MODIFIED:20260325T163519Z
UID:1752-1774803600-1774810800@afebb.de
SUMMARY:Zusammenkommen zum Feiern & Treffen nach dem Ramadan
DESCRIPTION:Wir laden euch herzlich ein\, am 29.03 zu einem besonderen Treffen nach dem Eid dazuzukommen. Ein Abend zum Zusammenkommen\, Austauschen und gemeinsamen Feiern\, mit einem kurzen Impuls zum Ramadan\, gefolgt von hausgemachtem Essen\, Tee und guter Gesellschaft in entspannter Atmosphäre.\nAlle sind herzlich willkommen. Außerdem wird es Henna geben.\nWir freuen uns\, euch zu sehen und gemeinsam zu feiern. \nFreier Eintritt – Spenden willkommen \nUm eine Anmeldung wird per Email an post@afebb.de oder per Anruf unter 0176 43 6913 30 gebeten.
URL:https://afebb.de/event/zusammenkommen-zum-feiern-treffen-nach-dem-ramadan/
LOCATION:Stadtteilzentrum Pankow\, Schönholzer Str. 10\, Berlin\, 13187
CATEGORIES:AfEBB
ATTACH;FMTTYPE=image/png:https://afebb.de/wp-content/uploads/2026/03/Einladung-zu-einem-besonderen-Gemeinsam-Sein-von-AfEBB-e.V.-nach-dem-Ramadan-am-29.03.26.png
END:VEVENT
END:VCALENDAR